BEGIN:VCALENDAR
VERSION:2.0
PRODID:-//Evelyn Fink-Mennel - ECPv4.7.4//NONSGML v1.0//EN
CALSCALE:GREGORIAN
METHOD:PUBLISH
X-WR-CALNAME:Evelyn Fink-Mennel
X-ORIGINAL-URL:https://evelynfinkmennel.at
X-WR-CALDESC:Veranstaltungen für Evelyn Fink-Mennel
BEGIN:VEVENT
DTSTART;TZID=UTC+0:20200201T200000
DTEND;TZID=UTC+0:20200201T200000
DTSTAMP:20260420T010601
CREATED:20191122T081248Z
LAST-MODIFIED:20191122T081248Z
UID:1194-1580587200-1580587200@evelynfinkmennel.at
SUMMARY:Zündschnur&Bänd
DESCRIPTION:Das neue Programm! infos: www.stemmschnur.at \n
URL:https://evelynfinkmennel.at/event/zuendschnurbaend/
LOCATION:Götzis Am Bach\, Am Bach 10\, Götzis\, Vorarlberg\, 6840\, Österreich
CATEGORIES:Konzert
ATTACH;FMTTYPE=image/jpeg:https://evelynfinkmennel.at/wp-content/uploads/stemmschnur.jpg
END:VEVENT
END:VCALENDAR