BEGIN:VCALENDAR
VERSION:2.0
PRODID:-//Evelyn Fink-Mennel - ECPv4.7.4//NONSGML v1.0//EN
CALSCALE:GREGORIAN
METHOD:PUBLISH
X-WR-CALNAME:Evelyn Fink-Mennel
X-ORIGINAL-URL:https://evelynfinkmennel.at
X-WR-CALDESC:Veranstaltungen für Evelyn Fink-Mennel
BEGIN:VEVENT
DTSTART;TZID=UTC+0:20201128T200000
DTEND;TZID=UTC+0:20201128T220000
DTSTAMP:20260419T170302
CREATED:20201020T172007Z
LAST-MODIFIED:20201029T182406Z
UID:1548-1606593600-1606600800@evelynfinkmennel.at
SUMMARY:abgesagt! Zündschnur & Bänd in Nüziders
DESCRIPTION:Abschlusskonzert der Herbsttournee der Wälder Liedermacher! \nNach acht ausverkauften Vorstellungen (Herbst 2019) folgte leider eine Absage der Frühjahrstournee 2020 wegen Corona. Mit ihrem aktuellen Programm und neuen Liedern zeigen sie einmal mehr\, dass sie ihren Humor und v.a. aber auch ihre spitze Feder nicht verlernt und vergessen haben. \nDie 6-köpfige „Wäldar-Bänd“ mit Ulli Troy (Zündschnur)\, Rolf Aberer\, Zündschnur’s Wiborsito (Evelyn Fink-Mennel\, Isabella Fink\, Irma-Maria Troy) und Sattlars Mike (Michael Moosbrugger). \nWeitere Infos  www.stemmschnur.at \n
URL:https://evelynfinkmennel.at/event/zuendschnur-baend-in-nueziders/
LOCATION:Nüziders Sonnenbergsaal\, Nüziders\, Vorarlberg\, Österreich
CATEGORIES:Konzert
ATTACH;FMTTYPE=image/jpeg:https://evelynfinkmennel.at/wp-content/uploads/zündschnurbänd-foto.jpg
END:VEVENT
END:VCALENDAR