BEGIN:VCALENDAR
VERSION:2.0
PRODID:-//Evelyn Fink-Mennel - ECPv4.7.4//NONSGML v1.0//EN
CALSCALE:GREGORIAN
METHOD:PUBLISH
X-WR-CALNAME:Evelyn Fink-Mennel
X-ORIGINAL-URL:https://evelynfinkmennel.at
X-WR-CALDESC:Veranstaltungen für Evelyn Fink-Mennel
BEGIN:VEVENT
DTSTART;TZID=UTC+0:20201120T200000
DTEND;TZID=UTC+0:20201120T220000
DTSTAMP:20260419T152851
CREATED:20201020T171458Z
LAST-MODIFIED:20201110T142849Z
UID:1541-1605902400-1605909600@evelynfinkmennel.at
SUMMARY:abgesagt! Zündschnur & Bänd in Altach
DESCRIPTION:Konzert ist ausverkauft! \nHerbsttournee der Wälder Liedermacher! \nNach acht ausverkauften Vorstellungen (Herbst 2019) folgte leider eine Absage der Frühjahrstournee 2020 wegen Corona. Mit ihrem aktuellen Programm und neuen Liedern zeigen sie einmal mehr\, dass sie ihren Humor und v.a. aber auch ihre spitze Feder nicht verlernt und vergessen haben. \nDie 6-köpfige „Wäldar-Bänd“ mit Ulli Troy (Zündschnur)\, Rolf Aberer\, Zündschnur’s Wiborsito (Evelyn Fink-Mennel\, Isabella Fink\, Irma-Maria Troy) und Sattlars Mike (Michael Moosbrugger). \nWeitere Infos  www.stemmschnur.at \n
URL:https://evelynfinkmennel.at/event/zuendschnur-baend-in-altach/
LOCATION:Altach Theater im KOM\, Altach\, Vorarlberg\, Österreich
CATEGORIES:Konzert
END:VEVENT
END:VCALENDAR