BEGIN:VCALENDAR
VERSION:2.0
PRODID:-//Evelyn Fink-Mennel - ECPv4.7.4//NONSGML v1.0//EN
CALSCALE:GREGORIAN
METHOD:PUBLISH
X-WR-CALNAME:Evelyn Fink-Mennel
X-ORIGINAL-URL:https://evelynfinkmennel.at
X-WR-CALDESC:Veranstaltungen für Evelyn Fink-Mennel
BEGIN:VEVENT
DTSTART;TZID=UTC+0:20200313T080000
DTEND;TZID=UTC+0:20200313T223000
DTSTAMP:20260420T011910
CREATED:20191122T082523Z
LAST-MODIFIED:20200401T093244Z
UID:1199-1584086400-1584138600@evelynfinkmennel.at
SUMMARY:abgesagt! neue Termine im Herbst 2020   Zündschnur & Bänd
DESCRIPTION:Das neue Liedermacher-Programm!  Karteninfo: www.stemmschnur.at \n
URL:https://evelynfinkmennel.at/event/zuendschnur-baend-5/
LOCATION:Göfis Vereinshaus\, Pfründeweg 2\, Göfis\, Vorarlberg\, 6811\, Österreich
CATEGORIES:Konzert
END:VEVENT
END:VCALENDAR