BEGIN:VCALENDAR
VERSION:2.0
PRODID:-//Evelyn Fink-Mennel - ECPv4.7.4//NONSGML v1.0//EN
CALSCALE:GREGORIAN
METHOD:PUBLISH
X-WR-CALNAME:Evelyn Fink-Mennel
X-ORIGINAL-URL:https://evelynfinkmennel.at
X-WR-CALDESC:Veranstaltungen für Evelyn Fink-Mennel
BEGIN:VEVENT
DTSTART;TZID=UTC+0:20191109T080000
DTEND;TZID=UTC+0:20191109T170000
DTSTAMP:20260420T045002
CREATED:20181230T183813Z
LAST-MODIFIED:20181230T183813Z
UID:930-1573286400-1573318800@evelynfinkmennel.at
SUMMARY:Zündschnur & Bänd
DESCRIPTION:http://www.stemmschnur.at \n
URL:https://evelynfinkmennel.at/event/zuendschnur-baend-4/
LOCATION:Schwarzach Saal\, Schwarzach\, Vorarlberg\, Österreich
END:VEVENT
END:VCALENDAR