BEGIN:VCALENDAR
VERSION:2.0
PRODID:-//Evelyn Fink-Mennel - ECPv4.7.4//NONSGML v1.0//EN
CALSCALE:GREGORIAN
METHOD:PUBLISH
X-WR-CALNAME:Evelyn Fink-Mennel
X-ORIGINAL-URL:https://evelynfinkmennel.at
X-WR-CALDESC:Veranstaltungen für Evelyn Fink-Mennel
BEGIN:VEVENT
DTSTART;TZID=UTC+0:20191107T200000
DTEND;TZID=UTC+0:20191107T220000
DTSTAMP:20260420T043250
CREATED:20181230T183112Z
LAST-MODIFIED:20181230T183122Z
UID:924-1573156800-1573164000@evelynfinkmennel.at
SUMMARY:Zündschnur & Bänd
DESCRIPTION:http://www.stemmschnur.at \n
URL:https://evelynfinkmennel.at/event/zuendschnur-baend-3/
LOCATION:wirtschaft Dornbirn\, Dornbirn\, Vorarlberg\, 6850
END:VEVENT
END:VCALENDAR