BEGIN:VCALENDAR
VERSION:2.0
PRODID:-//Evelyn Fink-Mennel - ECPv4.7.4//NONSGML v1.0//EN
CALSCALE:GREGORIAN
METHOD:PUBLISH
X-WR-CALNAME:Evelyn Fink-Mennel
X-ORIGINAL-URL:https://evelynfinkmennel.at
X-WR-CALDESC:Veranstaltungen für Evelyn Fink-Mennel
BEGIN:VEVENT
DTSTART;TZID=UTC+0:20200328T200000
DTEND;TZID=UTC+0:20200328T223000
DTSTAMP:20260419T232403
CREATED:20191122T084304Z
LAST-MODIFIED:20200401T093733Z
UID:1216-1585425600-1585434600@evelynfinkmennel.at
SUMMARY:abgesagt! neue Termine im Herbst 2020 Zündschnur & Bänd
DESCRIPTION:Das neue Liedermacher-Programm! Karteninfo: www.stemmschnur.at \n
URL:https://evelynfinkmennel.at/event/zuendschnur-baend-10/
LOCATION:Hittisau Ritter-von-Bergmann-Saal\, Platz\, Hittisau\, Vorarlberg\, 6952\, Österreich
CATEGORIES:Konzert
END:VEVENT
END:VCALENDAR