BEGIN:VCALENDAR
VERSION:2.0
PRODID:-//Evelyn Fink-Mennel - ECPv4.7.4//NONSGML v1.0//EN
CALSCALE:GREGORIAN
METHOD:PUBLISH
X-WR-CALNAME:Evelyn Fink-Mennel
X-ORIGINAL-URL:https://evelynfinkmennel.at
X-WR-CALDESC:Veranstaltungen für Evelyn Fink-Mennel
BEGIN:VEVENT
DTSTART;VALUE=DATE:20180615
DTEND;VALUE=DATE:20180617
DTSTAMP:20260422T190000
CREATED:20171120T145105Z
LAST-MODIFIED:20171120T145105Z
UID:522-1529020800-1529193599@evelynfinkmennel.at
SUMMARY:Zjuuuhuhuiii - Wir feiern 10 Jahre VHS-Jodelkurs
DESCRIPTION:
URL:https://evelynfinkmennel.at/event/zjuuuhuhuiii-wir-feiern-10-jahre-vhs-jodelkurs/
LOCATION:Sonderdach Bezau\, Bezau\, Vorarlberg\, 6870\, Österreich
CATEGORIES:Kurs
END:VEVENT
END:VCALENDAR