BEGIN:VCALENDAR
VERSION:2.0
PRODID:-//Evelyn Fink-Mennel - ECPv4.7.4//NONSGML v1.0//EN
CALSCALE:GREGORIAN
METHOD:PUBLISH
X-WR-CALNAME:Evelyn Fink-Mennel
X-ORIGINAL-URL:https://evelynfinkmennel.at
X-WR-CALDESC:Veranstaltungen für Evelyn Fink-Mennel
BEGIN:VEVENT
DTSTART;TZID=UTC+0:20200911T080000
DTEND;TZID=UTC+0:20200913T170000
DTSTAMP:20260419T170517
CREATED:20180910T170811Z
LAST-MODIFIED:20200818T153024Z
UID:834-1599811200-1600016400@evelynfinkmennel.at
SUMMARY:verschoben! www.oujodelfest.com       Berlin 2020
DESCRIPTION:Covidbedingt verschoben auf 30.8.-5.9.2021 \nwww.oujodelfest.com \n
URL:https://evelynfinkmennel.at/event/www-jodelfest-com-berlin-2020/
CATEGORIES:Kurs
END:VEVENT
END:VCALENDAR