BEGIN:VCALENDAR
VERSION:2.0
PRODID:-//Evelyn Fink-Mennel - ECPv4.7.4//NONSGML v1.0//EN
CALSCALE:GREGORIAN
METHOD:PUBLISH
X-WR-CALNAME:Evelyn Fink-Mennel
X-ORIGINAL-URL:https://evelynfinkmennel.at
X-WR-CALDESC:Veranstaltungen für Evelyn Fink-Mennel
BEGIN:VEVENT
DTSTART;TZID=UTC+0:20171214T190000
DTEND;TZID=UTC+0:20171214T210000
DTSTAMP:20260422T215804
CREATED:20171120T162057Z
LAST-MODIFIED:20171120T162057Z
UID:540-1513278000-1513285200@evelynfinkmennel.at
SUMMARY:Weihnachtsbenefizkonzert MS Lustenau
DESCRIPTION:Es spielen SchülerInnen der Rheintalischen Musikschule aus gemischten Klassen. Bei freiem Eintritt kommen die freiwilligen Spenden einem karitativen Zweck zu Gute. \n
URL:https://evelynfinkmennel.at/event/weihnachtsbenefizkonzert-ms-lustenau-2/
LOCATION:Pfarrkirche Rheindorf\, Maria-Theresien-Straße 85\, Lustenau\, Vorarlberg\, 6890\, Österreich
CATEGORIES:Konzert
ORGANIZER;CN="Musikschule%20Lustenau":MAILTO:musikschule@lustenau.at
END:VEVENT
END:VCALENDAR