BEGIN:VCALENDAR
VERSION:2.0
PRODID:-//Evelyn Fink-Mennel - ECPv4.7.4//NONSGML v1.0//EN
CALSCALE:GREGORIAN
METHOD:PUBLISH
X-WR-CALNAME:Evelyn Fink-Mennel
X-ORIGINAL-URL:https://evelynfinkmennel.at
X-WR-CALDESC:Veranstaltungen für Evelyn Fink-Mennel
BEGIN:VEVENT
DTSTART;TZID=UTC+0:20180817T203000
DTEND;TZID=UTC+0:20180817T213000
DTSTAMP:20260422T173738
CREATED:20180602T200650Z
LAST-MODIFIED:20180710T191914Z
UID:748-1534537800-1534541400@evelynfinkmennel.at
SUMMARY:Walserherbst Eröffnungsperformance
DESCRIPTION:www.walserherbst.at \nEröffnungsperformance: SABRE (Elektronik und Technologie) trifft auf Walser-Alltagskunst (Kuhglocken\, Walserpolka\, Juz) \nTeilprojekt IBH Forschungsprojekt FH St.Gallen\, Vorarlberger Landeskonservatorium; \nUnternehmer: SABRE/Matthias Müller\, CH; Künstler: Christoph Dobberstein\, Samuel Eder\, Evelyn Fink-Mennel\, Lea Lampert\, Matthias Müller\, Leonardo Rosales \n \n
URL:https://evelynfinkmennel.at/event/walserherbst-eroeffnungsperformance/
LOCATION:Div. Locations im Dorfzentrum von Sonntag\, Sonntag im Großen Walsertal\, Vorarlberg\, Österreich
CATEGORIES:Konzert
ORGANIZER;CN="Walserherbst":MAILTO:office@walserherbst.at
END:VEVENT
END:VCALENDAR