BEGIN:VCALENDAR
VERSION:2.0
PRODID:-//Evelyn Fink-Mennel - ECPv4.7.4//NONSGML v1.0//EN
CALSCALE:GREGORIAN
METHOD:PUBLISH
X-WR-CALNAME:Evelyn Fink-Mennel
X-ORIGINAL-URL:https://evelynfinkmennel.at
X-WR-CALDESC:Veranstaltungen für Evelyn Fink-Mennel
BEGIN:VEVENT
DTSTART;TZID=UTC+0:20190630T050000
DTEND;TZID=UTC+0:20190630T190000
DTSTAMP:20260422T092046
CREATED:20180910T141748Z
LAST-MODIFIED:20180910T143232Z
UID:806-1561870800-1561921200@evelynfinkmennel.at
SUMMARY:Bochabela. Südafrika meets Vorarlberg
DESCRIPTION:Bochabela. Ein klingender Name seit Jahren für südafrikanische\, lebendig pulsierende Geigenmusik. \nDass es auch Bochabela’s Vorarlberger Prägung gibt\, ist noch wenig bekannt. \nDas wird eine spannende Begegnung\, wenn in der Wallfahrtskirche von St. Arbogast sich südafrikanische mit \nVorarlberger Streichern treffen\, um europäische mit südafrikanischer Fiddlemusik zu verhandeln. \n  \n
URL:https://evelynfinkmennel.at/event/vorarlberger-bochabelas-meets-bochabelas-from-southafrica/
LOCATION:St. Arbogast Pfarrkirche\, Götzis\, Vorarlberg\, Österreich
CATEGORIES:Konzert
END:VEVENT
END:VCALENDAR