BEGIN:VCALENDAR
VERSION:2.0
PRODID:-//Evelyn Fink-Mennel - ECPv4.7.4//NONSGML v1.0//EN
CALSCALE:GREGORIAN
METHOD:PUBLISH
X-WR-CALNAME:Evelyn Fink-Mennel
X-ORIGINAL-URL:https://evelynfinkmennel.at
X-WR-CALDESC:Veranstaltungen für Evelyn Fink-Mennel
BEGIN:VEVENT
DTSTART;VALUE=DATE:20200418
DTEND;VALUE=DATE:20200419
DTSTAMP:20260419T231735
CREATED:20191117T210836Z
LAST-MODIFIED:20200406T131358Z
UID:1185-1587168000-1587254399@evelynfinkmennel.at
SUMMARY:abgesagt! VHS-Jodelkurs Alpe Leugher
DESCRIPTION:Seit 2008 DER Jodelkurs im Ländle …oben am Berg mit Berg-Rundumblick… \nAlle Infos: Volkshochschule Bregenz \n
URL:https://evelynfinkmennel.at/event/vhs-jodelkurs-alpe-leugher/
CATEGORIES:Kurs
ATTACH;FMTTYPE=image/jpeg:https://evelynfinkmennel.at/wp-content/uploads/2017/09/andoltisbuobo_6Tafel.jpg
END:VEVENT
END:VCALENDAR