BEGIN:VCALENDAR
VERSION:2.0
PRODID:-//Evelyn Fink-Mennel - ECPv4.7.4//NONSGML v1.0//EN
CALSCALE:GREGORIAN
METHOD:PUBLISH
X-WR-CALNAME:Evelyn Fink-Mennel
X-ORIGINAL-URL:https://evelynfinkmennel.at
X-WR-CALDESC:Veranstaltungen für Evelyn Fink-Mennel
BEGIN:VEVENT
DTSTART;TZID=UTC+0:20200919T083000
DTEND;TZID=UTC+0:20200919T183000
DTSTAMP:20260419T190558
CREATED:20200611T115314Z
LAST-MODIFIED:20200611T115314Z
UID:1437-1600504200-1600540200@evelynfinkmennel.at
SUMMARY:VHS Bregenz Jodelkurs
DESCRIPTION:Wir bleiben dran und versuchens nach der covidbedingten Absage im März am 19. September 2020 wieder. \nJodeln vor Ort auf der Alpe – ganztägig! Eine Veranstaltunge der VHS-Bregenz! \nDas Dream-Team: Evelyn Fink-Mennel\, Matthias Härtel\, Adi Jackel und Luggi Metzler \n
URL:https://evelynfinkmennel.at/event/vhs-bregenz-jodelkurs/
CATEGORIES:Kurs
END:VEVENT
END:VCALENDAR