BEGIN:VCALENDAR
VERSION:2.0
PRODID:-//Evelyn Fink-Mennel - ECPv4.7.4//NONSGML v1.0//EN
CALSCALE:GREGORIAN
METHOD:PUBLISH
X-WR-CALNAME:Evelyn Fink-Mennel
X-ORIGINAL-URL:https://evelynfinkmennel.at
X-WR-CALDESC:Veranstaltungen für Evelyn Fink-Mennel
BEGIN:VEVENT
DTSTART;TZID=UTC+0:20201114T200000
DTEND;TZID=UTC+0:20201114T220000
DTSTAMP:20260419T170611
CREATED:20181231T083607Z
LAST-MODIFIED:20201020T161608Z
UID:952-1605384000-1605391200@evelynfinkmennel.at
SUMMARY:abgesagt! Unter der Laterne Konzert 12
DESCRIPTION:http://www.unter-der-laterne.com \n  \nAbschlusskonzert des 2jährigen Konzertzyklus „Unter der Laterne“ \nmit Giorgos Bakalidis\, Aydin Balli\, Robert Bernhard\, Uli Binetsch\, Evelyn Fink-Mennel\, \nMartin Grabher\, Aris Kapagiannidis\, Florian King\, Waltraud Köttler\, Jodok Lingg\, Andreas Paragioudakis-Fink\, \nSteve Pinter\, Moaz al Shamma\, Herbert Walser \n
URL:https://evelynfinkmennel.at/event/unter-der-laterne-konzert-12/
LOCATION:Kulturhaus Dornbirn\, Dornbirn\, Vorarlberg\, 6850\, Österreich
CATEGORIES:Konzert
END:VEVENT
END:VCALENDAR