BEGIN:VCALENDAR
VERSION:2.0
PRODID:-//Evelyn Fink-Mennel - ECPv4.7.4//NONSGML v1.0//EN
CALSCALE:GREGORIAN
METHOD:PUBLISH
X-WR-CALNAME:Evelyn Fink-Mennel
X-ORIGINAL-URL:https://evelynfinkmennel.at
X-WR-CALDESC:Veranstaltungen für Evelyn Fink-Mennel
BEGIN:VEVENT
DTSTART;TZID=UTC+0:20200516T180000
DTEND;TZID=UTC+0:20200516T200000
DTSTAMP:20260420T005718
CREATED:20181230T185726Z
LAST-MODIFIED:20200401T092529Z
UID:949-1589652000-1589659200@evelynfinkmennel.at
SUMMARY:verschoben auf 24.4.2021 finkslinggs Konzert "Am Ursprung"
DESCRIPTION:Der neue Termin für das coronabedingt abgesagte Konzert ist der 24.4.2021! \nKonzert im Rahmen des Zürcher „confluence Musikfest 2020“ \nwww.confluence-zurich.ch \nZum Konzert: \nIm ersten Teil des Konzertes ist Volksmusik vom Feinsten in kammermusikalischer Manier zu hören mit den drei Freunden und Protagonisten der aktuellen Schweizer Volksmusik Domenic Janett (Klarinette\, Fränzlimusig)\, Andreas Gabriel (Violine\, Helvetic Fiddlers\, Ambäck) und Fabian Müller (Cello\, Hanneli-Musig). \nIm zweiten Teil des Abends erklingt dann ein volksmusikalisches Feuerwerk aus Vorarlberg mit einer geborenen Musikantin\, die mit ihrer magischen Stimme\, ihrem virtuosen Geigenspiel und mit einer mitreissenden Bühnenpräsenz vor Energie und Spielfreude fast übersprudelt. Die Rede ist von Evelyn Fink-Mennel. Bei den „finkslinggs“ (Evelyn Fink-Mennel\, Philipp Lingg und Irma-Maria Troy) verbindet sich urwüchsige Musik mit Humor und Ironie. Althergebrachtes stößt auf Neues. Ein Geheimtipp und Erlebnis für alle Liebhaber des lebendigen und kreativen Umgangs mit alpenländischer Musik-Tradition. \nAnschließend spielen „finkslinggs“ beim „Zürcher Biedermeier-Ball“ auf für eine rauschende Tanznacht im Saal des Hotels Glockenhof. \n
URL:https://evelynfinkmennel.at/event/unter-der-laterne-konzert-10/
LOCATION:St. Anna-Kapelle Zürich\, St. Annagasse 11\, Zürich\, Zürich\, 8001\, Schweiz
CATEGORIES:Konzert
ATTACH;FMTTYPE=image/jpeg:https://evelynfinkmennel.at/wp-content/uploads/finkslinggs-irma-philipp-evelyn.jpg
END:VEVENT
END:VCALENDAR