BEGIN:VCALENDAR
VERSION:2.0
PRODID:-//Evelyn Fink-Mennel - ECPv4.7.4//NONSGML v1.0//EN
CALSCALE:GREGORIAN
METHOD:PUBLISH
X-WR-CALNAME:Evelyn Fink-Mennel
X-ORIGINAL-URL:https://evelynfinkmennel.at
X-WR-CALDESC:Veranstaltungen für Evelyn Fink-Mennel
BEGIN:VEVENT
DTSTART;TZID=UTC+0:20181221T200000
DTEND;TZID=UTC+0:20181221T220000
DTSTAMP:20260422T133843
CREATED:20180602T155752Z
LAST-MODIFIED:20180602T155752Z
UID:697-1545422400-1545429600@evelynfinkmennel.at
SUMMARY:Theater am Saumarkt
DESCRIPTION:Konzertprojekt mit Andreas Paragioudakis und Musiker_innen verschiedener Nationalitäten und \nMusikstilen \n  \n \n
URL:https://evelynfinkmennel.at/event/theater-am-saumarkt/
LOCATION:Theater am Saumarkt\, Feldkirch\, Vorarlberg\, 6800\, Österreich
CATEGORIES:Konzert
ATTACH;FMTTYPE=image/jpeg:https://evelynfinkmennel.at/wp-content/uploads/2017/09/EFM-profil-nacht-mit-giege-und-singend-ernst-bimminger-2017-07-212021-41-52.jpg
END:VEVENT
END:VCALENDAR