BEGIN:VCALENDAR
VERSION:2.0
PRODID:-//Evelyn Fink-Mennel - ECPv4.7.4//NONSGML v1.0//EN
CALSCALE:GREGORIAN
METHOD:PUBLISH
X-WR-CALNAME:Evelyn Fink-Mennel
X-ORIGINAL-URL:https://evelynfinkmennel.at
X-WR-CALDESC:Veranstaltungen für Evelyn Fink-Mennel
BEGIN:VEVENT
DTSTART;TZID=UTC+0:20190430T200000
DTEND;TZID=UTC+0:20190430T223000
DTSTAMP:20260422T122332
CREATED:20181230T181500Z
LAST-MODIFIED:20181230T181500Z
UID:908-1556654400-1556663400@evelynfinkmennel.at
SUMMARY:Tanzprojekt: Gemischte Beine - Bewegte Gefühle
DESCRIPTION:Evelyn Fink-Mennel als Gastmusikerin im Rahmen des zeitgenössischen Tanz-Theater-Musikprojektes von Frank Gisa. \nhttp://www.frank-tanz.ch/wp-content/uploads/2018/02/Tourplan.jpg \nTournee mit 15 Vorstellungen und wechselnden GastmusikerInnen ab Jänner 2019. \nGEMISCHTE BEINE – BEWEGTE GEFÜHLE\nauf Tournee ab 10. Januar 2019 \nDas neue Tanz-Theater-Musik-Projekt über die Tanz-Lust\, -Wut und -Sucht der Menschen durch die Epochen\, Stile\, gesellschaftlichen Ordnungen. \nAuf der Bühne mischen sich Erzählungen um das Tanzen und die Menschen an den Spielorten (Tanzsälen) mit den bewegten Körpergeschichten der 15 Akteure und Akteurinnen. Themen sind das Sterben und Neu-Entdecken von Traditionellem\, die Widersprüche um Körperlichkeit und Moral\, die Nähe und Distanz zwischen den Menschen. Auf der bewegten Menschenbühne treffen Alltag\, Fest und Spirit\, begleitet von einem Salonorchester aufeinander. \n
URL:https://evelynfinkmennel.at/event/tanzprojekt-gemischte-beine-bewegte-gefuehle/
LOCATION:Eisenwerk\, Frauenfeld\, Schweiz
END:VEVENT
END:VCALENDAR