BEGIN:VCALENDAR
VERSION:2.0
PRODID:-//Evelyn Fink-Mennel - ECPv4.7.4//NONSGML v1.0//EN
CALSCALE:GREGORIAN
METHOD:PUBLISH
X-WR-CALNAME:Evelyn Fink-Mennel
X-ORIGINAL-URL:https://evelynfinkmennel.at
X-WR-CALDESC:Veranstaltungen für Evelyn Fink-Mennel
BEGIN:VEVENT
DTSTART;VALUE=DATE:20171125
DTEND;VALUE=DATE:20171126
DTSTAMP:20260422T232934
CREATED:20171031T135942Z
LAST-MODIFIED:20171120T154016Z
UID:421-1511568000-1511654399@evelynfinkmennel.at
SUMMARY:Tagung: Spiel – Kind – Musik
DESCRIPTION:Im Kontext von Schule\, Musikschule und Frühe Bildung (3 bis 9 Jahre) \n2 Workshops „Kinderreime\, Jodler\, peppige Volkslieder. Musikalische Strukturen lustvoll und spielend erlernen (4-9 Jahre)“ \nLink: https://www.phsg.ch/sites/default/files/cms/Weiterbildung/PHSG_Musiktagung%202017_web.pdf \n
URL:https://evelynfinkmennel.at/event/tagung-spiel-kind-musik/
LOCATION:PH St. Gallen\, Schweiz
CATEGORIES:Kurs
END:VEVENT
END:VCALENDAR