BEGIN:VCALENDAR
VERSION:2.0
PRODID:-//Evelyn Fink-Mennel - ECPv4.7.4//NONSGML v1.0//EN
CALSCALE:GREGORIAN
METHOD:PUBLISH
X-WR-CALNAME:Evelyn Fink-Mennel
X-ORIGINAL-URL:https://evelynfinkmennel.at
X-WR-CALDESC:Veranstaltungen für Evelyn Fink-Mennel
BEGIN:VEVENT
DTSTART;TZID=UTC+0:20200205T090000
DTEND;TZID=UTC+0:20200205T100000
DTSTAMP:20260420T012057
CREATED:20190721T174338Z
LAST-MODIFIED:20190721T174338Z
UID:1142-1580893200-1580896800@evelynfinkmennel.at
SUMMARY:Symposium Musik und Gesellschaft
DESCRIPTION:https://vlk.ac.at/symposium \nVortrag: Alltagskunst als Innovations- und Integrationsfaktor in Unternehmen der Bodenseeregion \n
URL:https://evelynfinkmennel.at/event/symposium-musik-und-gesellschaft/
LOCATION:Montforthaus Feldkirch\, Feldkirch\, Vorarlberg\, 6800\, Österreich
CATEGORIES:Vortrag
END:VEVENT
END:VCALENDAR