BEGIN:VCALENDAR
VERSION:2.0
PRODID:-//Evelyn Fink-Mennel - ECPv4.7.4//NONSGML v1.0//EN
CALSCALE:GREGORIAN
METHOD:PUBLISH
X-WR-CALNAME:Evelyn Fink-Mennel
X-ORIGINAL-URL:https://evelynfinkmennel.at
X-WR-CALDESC:Veranstaltungen für Evelyn Fink-Mennel
BEGIN:VEVENT
DTSTART;TZID=UTC+0:20180427T090000
DTEND;TZID=UTC+0:20180427T130000
DTSTAMP:20260422T220126
CREATED:20180602T144056Z
LAST-MODIFIED:20180602T144056Z
UID:662-1524819600-1524834000@evelynfinkmennel.at
SUMMARY:Symposium Mozarteum
DESCRIPTION:Symposium: Volksmusikforschung! Musikpädagogik? \nAnlässlich des Jubiläums 25 Jahre Studium Volksmusikinstrumente an der Universität Mozarteum Salzburg \n(Referenten: Evelyn Fink-Mennel\, Thomas Hochradner\, Thomas Nußbaumer\, Rudi Pietsch) \n
URL:https://evelynfinkmennel.at/event/symposium-mozarteum/
LOCATION:Universität Mozarteum\, Mirabellplatz 1\, Salzburg\, Salzburg\, Österreich
END:VEVENT
END:VCALENDAR