BEGIN:VCALENDAR
VERSION:2.0
PRODID:-//Evelyn Fink-Mennel - ECPv4.7.4//NONSGML v1.0//EN
CALSCALE:GREGORIAN
METHOD:PUBLISH
X-WR-CALNAME:Evelyn Fink-Mennel
X-ORIGINAL-URL:https://evelynfinkmennel.at
X-WR-CALDESC:Veranstaltungen für Evelyn Fink-Mennel
BEGIN:VEVENT
DTSTART;TZID=UTC+0:20171005T140000
DTEND;TZID=UTC+0:20171005T173000
DTSTAMP:20260423T010135
CREATED:20170928T120234Z
LAST-MODIFIED:20171120T154138Z
UID:330-1507212000-1507224600@evelynfinkmennel.at
SUMMARY:Symposion „Zwei Welten treffen sich – Wirtschaft und Kunst“
DESCRIPTION:Gemäß einer aktuellen Studie haben bereits 75 % aller Unternehmen mindestens einmal mit einem Künstler bzw. einer Künstlerin erfolgreich zusammengearbeitet. In einer weiteren Studie antworteten etwa 40% von insgesamt 133 Musikern bzw. Musikerinnen\, dass sie bereits einmal eine Kooperation mit einem Unternehmen eingegangen sind. Das Spektrum einer solchen Zusammenarbeit reicht dabei von einem einmaligen Auftritt bis hin zu jahrelanger Kooperation. Interessante Referenten und Referentinnen stellen die Musik- als auch die Wirtschaftsperspektive solcher Kooperationen dar. Ziel des Symposiums ist es auch\, Künstler\, Künstlerinnen und Wirtschaftsvertreter für einen Erfahrungsaustausch und einer zukünftigen Zusammenarbeit zusammenzuführen. \nDas Symposium fi ndet im Rahmen eines von der Internationalen Bodenseehochschule (IBH) geförderten Forschungsprojektes der FHS St.Gallen\, Hochschule für Angewandte Wissenschaften\, des Vorarlberger Landeskonservatoriums sowie der Fachhochschule Nordwestschweiz statt. \nTeilnahme ist kostenlos\, um Anmeldung unter T 00 43 5522 71110 12\noder Email: judith.altrichter@vlk.ac.at wird gebeten.\nDetailprogramm unter: www.vlk.ac.at \nVeranstaltungsflyer \n
URL:https://evelynfinkmennel.at/event/symposion-zwei-welten-treffen-sich-wirtschaft-und-kunst/
LOCATION:Bibliothek Landeskonservatorium\, feldkirch\, Österreich
CATEGORIES:Vortrag
END:VEVENT
END:VCALENDAR