BEGIN:VCALENDAR
VERSION:2.0
PRODID:-//Evelyn Fink-Mennel - ECPv4.7.4//NONSGML v1.0//EN
CALSCALE:GREGORIAN
METHOD:PUBLISH
X-WR-CALNAME:Evelyn Fink-Mennel
X-ORIGINAL-URL:https://evelynfinkmennel.at
X-WR-CALDESC:Veranstaltungen für Evelyn Fink-Mennel
BEGIN:VEVENT
DTSTART;TZID=UTC+0:20180623T100000
DTEND;TZID=UTC+0:20180623T150000
DTSTAMP:20260422T185821
CREATED:20171120T142034Z
LAST-MODIFIED:20180602T144307Z
UID:504-1529748000-1529766000@evelynfinkmennel.at
SUMMARY:Symposium - Frauen: Musik/Geschichten
DESCRIPTION:Eine Veranstaltungskooperation des Vorarlberger Landeskonservatoriums mit „Musik in der Pforte“\, dem Frauenmuseum Hittisau und der Universität Zürich/Englisches Seminar. \nProgramm: folder final komponistinnenfestival und symposion 2018 \n  \nSymposium im Rahmen der IBH_Positionen_Symposium_2018 \n
URL:https://evelynfinkmennel.at/event/symposion-frauen-musik-geschichten/
LOCATION:Frauenmuseum Hittisau\, Hittisau\, Österreich
CATEGORIES:Konzert,Vortrag
END:VEVENT
END:VCALENDAR