BEGIN:VCALENDAR
VERSION:2.0
PRODID:-//Evelyn Fink-Mennel - ECPv4.7.4//NONSGML v1.0//EN
CALSCALE:GREGORIAN
METHOD:PUBLISH
X-WR-CALNAME:Evelyn Fink-Mennel
X-ORIGINAL-URL:https://evelynfinkmennel.at
X-WR-CALDESC:Veranstaltungen für Evelyn Fink-Mennel
BEGIN:VEVENT
DTSTART;TZID=UTC+0:20190811T170000
DTEND;TZID=UTC+0:20190811T190000
DTSTAMP:20260422T091540
CREATED:20190721T180745Z
LAST-MODIFIED:20190721T180745Z
UID:1162-1565542800-1565550000@evelynfinkmennel.at
SUMMARY:St. Corneli Konzert finkslinggs
DESCRIPTION:
URL:https://evelynfinkmennel.at/event/st-corneli-konzert-finkslinggs/
LOCATION:Kirche St. Corneli/Feldkirch\, Feldkirch\, Vorarlberg\, 6800\, Österreich
END:VEVENT
END:VCALENDAR