BEGIN:VCALENDAR
VERSION:2.0
PRODID:-//Evelyn Fink-Mennel - ECPv4.7.4//NONSGML v1.0//EN
CALSCALE:GREGORIAN
METHOD:PUBLISH
X-WR-CALNAME:Evelyn Fink-Mennel
X-ORIGINAL-URL:https://evelynfinkmennel.at
X-WR-CALDESC:Veranstaltungen für Evelyn Fink-Mennel
BEGIN:VEVENT
DTSTART;TZID=UTC+0:20180904T140000
DTEND;TZID=UTC+0:20180904T170000
DTSTAMP:20260422T174405
CREATED:20180602T172906Z
LAST-MODIFIED:20180602T172907Z
UID:707-1536069600-1536080400@evelynfinkmennel.at
SUMMARY:Sommerakademie "Der Mensch und die Musik" / Jodelwanderung
DESCRIPTION:Die Sommerakademie der Diözese Rottenburg-Stuttgart macht im Rahmen ihrer Vorarlberg-Exkursion \nHalt in Feldkirch (Montforthaus) und Großen Walsertal (Echo-Wand). \n \n
URL:https://evelynfinkmennel.at/event/sommerakademie-der-mensch-und-die-musik-jodelwanderung/
LOCATION:Echo-Wand\, Sonntag-Stein\, Vorarlberg\, Österreich
CATEGORIES:Kurs,Vortrag
END:VEVENT
END:VCALENDAR