BEGIN:VCALENDAR
VERSION:2.0
PRODID:-//Evelyn Fink-Mennel - ECPv4.7.4//NONSGML v1.0//EN
CALSCALE:GREGORIAN
METHOD:PUBLISH
X-WR-CALNAME:Evelyn Fink-Mennel
X-ORIGINAL-URL:https://evelynfinkmennel.at
X-WR-CALDESC:Veranstaltungen für Evelyn Fink-Mennel
BEGIN:VEVENT
DTSTART;TZID=UTC+0:20191002T193000
DTEND;TZID=UTC+0:20191002T220000
DTSTAMP:20260420T045247
CREATED:20181231T095049Z
LAST-MODIFIED:20181231T095049Z
UID:954-1570044600-1570053600@evelynfinkmennel.at
SUMMARY:Singen in der Hospizarbeit
DESCRIPTION:Repertoire-Workshop mit Wilma Fink (langjährige Hospizbegleiterin und Zitherspielerin)  und Tochter Evelyn Fink-Mennel (Sängerin\, Volksmusikforscherin). \n
URL:https://evelynfinkmennel.at/event/singen-in-der-hospizarbeit/
LOCATION:Gasthof Ochsen Schwarzenberg\, Hof\, Schwarzenberg\, Vorarlberg\, 6867\, Österreich
END:VEVENT
END:VCALENDAR