BEGIN:VCALENDAR
VERSION:2.0
PRODID:-//Evelyn Fink-Mennel - ECPv4.7.4//NONSGML v1.0//EN
CALSCALE:GREGORIAN
METHOD:PUBLISH
X-WR-CALNAME:Evelyn Fink-Mennel
X-ORIGINAL-URL:https://evelynfinkmennel.at
X-WR-CALDESC:Veranstaltungen für Evelyn Fink-Mennel
BEGIN:VEVENT
DTSTART;TZID=UTC+0:20200703T200000
DTEND;TZID=UTC+0:20200703T210000
DTSTAMP:20260419T210036
CREATED:20200117T203511Z
LAST-MODIFIED:20200611T114838Z
UID:1262-1593806400-1593810000@evelynfinkmennel.at
SUMMARY:Prozessione Performance Tone Fink
DESCRIPTION:Prozessione – Aufstand der Tiere. Vom oberen zum unteren Brunnen in Schwarzenberg \n  \nDie fröhliche Kunsthautdemonstration „Aufstand der Tiere“ ist gegen die Eintönigkeit des grauen Alltags\, und ein Aufruf gegen das Artensterben … ohne Zeigefinger\, unter verschiedenen Schutzhäuten kann man zu seiner Identität finden. Indem wir uns einem spielerischen Betätigungsdrang hingeben\, vermögen wir\, den Geist der Erfindung zu wecken. \n
URL:https://evelynfinkmennel.at/event/performance-tone-fink-prozessione/
LOCATION:Schwarzenberg\, Dorfbrunnen\, Schwarzenberg\, Vorarlberg\, 6867\, Österreich
CATEGORIES:Session
ATTACH;FMTTYPE=image/jpeg:https://evelynfinkmennel.at/wp-content/uploads/750-Jahre.jpg
END:VEVENT
END:VCALENDAR