BEGIN:VCALENDAR
VERSION:2.0
PRODID:-//Evelyn Fink-Mennel - ECPv4.7.4//NONSGML v1.0//EN
CALSCALE:GREGORIAN
METHOD:PUBLISH
X-WR-CALNAME:Evelyn Fink-Mennel
X-ORIGINAL-URL:https://evelynfinkmennel.at
X-WR-CALDESC:Veranstaltungen für Evelyn Fink-Mennel
BEGIN:VEVENT
DTSTART;TZID=UTC+0:20200625T190000
DTEND;TZID=UTC+0:20200625T203000
DTSTAMP:20260419T211522
CREATED:20191122T091423Z
LAST-MODIFIED:20200611T103144Z
UID:1228-1593111600-1593117000@evelynfinkmennel.at
SUMMARY:verschoben auf 2.7. 2020! Orchesterkonzert der Musikschule Lustenau
DESCRIPTION:Abschluss des Schuljahres 2019/20. Großes Schlusskonzert im Reichshofsaal. \nStatt dem „Großen Schlusskonzert“ finden nun\, angepasst an die aktuellen Covid-Vorgaben für Veranstaltungsdurchführungen\, mehrere „Kleinkonzerte“ im Freudenhaus Lustenau in der ersten Juli-Woche statt. \n  \n
URL:https://evelynfinkmennel.at/event/orchesterkonzert-der-musikschule-lustenau/
LOCATION:Reichshofsaal Lustenau\, Kirchplatz 1\, Lustenau\, Vorarlberg\, 6890\, Österreich
CATEGORIES:Konzert
END:VEVENT
END:VCALENDAR