BEGIN:VCALENDAR
VERSION:2.0
PRODID:-//Evelyn Fink-Mennel - ECPv4.7.4//NONSGML v1.0//EN
CALSCALE:GREGORIAN
METHOD:PUBLISH
X-WR-CALNAME:Evelyn Fink-Mennel
X-ORIGINAL-URL:https://evelynfinkmennel.at
X-WR-CALDESC:Veranstaltungen für Evelyn Fink-Mennel
BEGIN:VEVENT
DTSTART;TZID=UTC+0:20190627T190000
DTEND;TZID=UTC+0:20190627T190000
DTSTAMP:20260422T104809
CREATED:20190202T211036Z
LAST-MODIFIED:20190202T211036Z
UID:987-1561662000-1561662000@evelynfinkmennel.at
SUMMARY:Orchester-Ensemble-Konzert MS Lustenau
DESCRIPTION:Wir feiern die nahen Ferien und zeigen\, was wir erarbeitet haben. \nEvelyn Fink-Mennel mit der Jugendsinfonietta der MS Lustenau und dem Ensemble Fiddlekids. \n
URL:https://evelynfinkmennel.at/event/orchester-ensemble-konzert-ms-lustenau/
LOCATION:Reichshofsaal Lustenau\, Kirchplatz 1\, Lustenau\, Vorarlberg\, 6890\, Österreich
END:VEVENT
END:VCALENDAR