BEGIN:VCALENDAR
VERSION:2.0
PRODID:-//Evelyn Fink-Mennel - ECPv4.7.4//NONSGML v1.0//EN
CALSCALE:GREGORIAN
METHOD:PUBLISH
X-WR-CALNAME:Evelyn Fink-Mennel
X-ORIGINAL-URL:https://evelynfinkmennel.at
X-WR-CALDESC:Veranstaltungen für Evelyn Fink-Mennel
BEGIN:VEVENT
DTSTART;TZID=UTC+0:20180606T193000
DTEND;TZID=UTC+0:20180606T210000
DTSTAMP:20260422T202532
CREATED:20180602T192016Z
LAST-MODIFIED:20180602T192627Z
UID:729-1528313400-1528318800@evelynfinkmennel.at
SUMMARY:68. Österreichischer Städtetag 2018
DESCRIPTION:Österreichs Bürgermeister und -innen versammeln sich in Feldkirch. Die Tischmusik zum „Ländleabend“ im Festsaal des Konservatoriums und Pförtnerhaus am 6. Juni 2018 stellt Evelyn Fink-Mennel mit Musikfreunden\, Schülerinnen und Studierenden … \n \ntest 1 \n  \n
URL:https://evelynfinkmennel.at/event/oesterreichischer-staedtetag-2018/
LOCATION:Vorarlberger Landeskonservatorium\, Reichenfeldgasse\, Feldkirch\, Vorarlberg\, 6800\, Österreich
CATEGORIES:Konzert
END:VEVENT
END:VCALENDAR