BEGIN:VCALENDAR
VERSION:2.0
PRODID:-//Evelyn Fink-Mennel - ECPv4.7.4//NONSGML v1.0//EN
CALSCALE:GREGORIAN
METHOD:PUBLISH
X-WR-CALNAME:Evelyn Fink-Mennel
X-ORIGINAL-URL:https://evelynfinkmennel.at
X-WR-CALDESC:Veranstaltungen für Evelyn Fink-Mennel
BEGIN:VEVENT
DTSTART;TZID=UTC+0:20171116T203000
DTEND;TZID=UTC+0:20171116T203000
DTSTAMP:20260422T233513
CREATED:20171031T135752Z
LAST-MODIFIED:20171120T154030Z
UID:417-1510864200-1510864200@evelynfinkmennel.at
SUMMARY:„Musikalien des Überganges“ in Zeiten des Abschiednehmens und Trauerns.
DESCRIPTION:Evelyn Fink-Mennel und Wilma Fink \nAlles hat seine Zeit Bregenz 2017 Plakat A3 \n
URL:https://evelynfinkmennel.at/event/musikalien-des-ueberganges-in-zeiten-des-abschiednehmens-und-trauerns/
LOCATION:Evangelische Kreuzkirche am Ölrain\, Bregenz
CATEGORIES:Konzert,Vortrag
END:VEVENT
END:VCALENDAR