BEGIN:VCALENDAR
VERSION:2.0
PRODID:-//Evelyn Fink-Mennel - ECPv4.7.4//NONSGML v1.0//EN
CALSCALE:GREGORIAN
METHOD:PUBLISH
X-WR-CALNAME:Evelyn Fink-Mennel
X-ORIGINAL-URL:https://evelynfinkmennel.at
X-WR-CALDESC:Veranstaltungen für Evelyn Fink-Mennel
BEGIN:VEVENT
DTSTART;TZID=UTC+0:20190607T190000
DTEND;TZID=UTC+0:20190607T230000
DTSTAMP:20260422T104731
CREATED:20181230T164244Z
LAST-MODIFIED:20181231T104722Z
UID:899-1559934000-1559948400@evelynfinkmennel.at
SUMMARY:Musik-Tanz-Session
DESCRIPTION:http://www.freihofsulz.at \nMit-Tanzen / Mit-Spielen\nfreudig tanzen mit Live-Musik \nSich treffen\, schwingen\, plaudern\, drehen\, genießen\, springen\, durchdrehen … und das alles im Tanz! Bei Mit-tanzen werden traditionelle Tänze auf leichtfüßige Art kennen und tanzen gelernt oder umgekehrt\, MusikerInnen spielen live auf\, geben Rhythmus und Takt vor und machen Lust auf Tanz. Gespielt wird\, was in die Beine und unter die Haut geht!\nMit-tanzen tourt in seinem 6. Jahr nun durchs ganze Land. Jeden 1. Freitag im Monat öffnet eine Gaststätte ihre Türen\, bereitet einen stimmungsvollen Boden zum Tanz und verwöhnt gleichzeitig kulinarisch. \nTanz-Gastgeberin: Aleksandra Vohl\nMusik-Gastgeber: Evelyn Fink-Mennel\, Matthias Härtel\, Irma-Maria Troy & \nVorarlberg Museum in Kooperation mit netzwerkTanz\, Vorarlberger Landeskonservatorium\, cie. bewegungsmelder \n
URL:https://evelynfinkmennel.at/event/musik-tanz-session-2/
LOCATION:Freihof Sulz\, Schützenstraße 14\, Sulz\, Vorarlberg\, 6832\, Österreich
CATEGORIES:Session
END:VEVENT
END:VCALENDAR