BEGIN:VCALENDAR
VERSION:2.0
PRODID:-//Evelyn Fink-Mennel - ECPv4.7.4//NONSGML v1.0//EN
CALSCALE:GREGORIAN
METHOD:PUBLISH
X-WR-CALNAME:Evelyn Fink-Mennel
X-ORIGINAL-URL:https://evelynfinkmennel.at
X-WR-CALDESC:Veranstaltungen für Evelyn Fink-Mennel
BEGIN:VEVENT
DTSTART;TZID=UTC+0:20190927T200000
DTEND;TZID=UTC+0:20190927T210000
DTSTAMP:20260420T064802
CREATED:20190721T175655Z
LAST-MODIFIED:20190721T175655Z
UID:1152-1569614400-1569618000@evelynfinkmennel.at
SUMMARY:Musik.lokal - Ihre Wünsche
DESCRIPTION:Gasthaus „Zur Schönen Aussicht“\, Viktorsberg \nLive-Übertragung bei ORF-Radio Vorarlberg. \nEs singen und musizieren: Naturjodelgruppe Stein (AR)\, Hausmusik Fink \n
URL:https://evelynfinkmennel.at/event/musik-lokal-ihre-wuensche/
LOCATION:Viktorsberg
CATEGORIES:Konzert
END:VEVENT
END:VCALENDAR