BEGIN:VCALENDAR
VERSION:2.0
PRODID:-//Evelyn Fink-Mennel - ECPv4.7.4//NONSGML v1.0//EN
CALSCALE:GREGORIAN
METHOD:PUBLISH
X-WR-CALNAME:Evelyn Fink-Mennel
X-ORIGINAL-URL:https://evelynfinkmennel.at
X-WR-CALDESC:Veranstaltungen für Evelyn Fink-Mennel
BEGIN:VEVENT
DTSTART;TZID=UTC+0:20200901T203000
DTEND;TZID=UTC+0:20200901T213000
DTSTAMP:20260419T191647
CREATED:20200818T150703Z
LAST-MODIFIED:20200818T151037Z
UID:1499-1598992200-1598995800@evelynfinkmennel.at
SUMMARY:Musik in der Krone Au
DESCRIPTION:Ein Konzert nach einem edlen Abendmenu für die Krone-Hausgäste … und wen’s sonst noch interessiert! Das ist der Kultur-Geist im Hotel Krone Au. \nAn diesem Abend wird Klassisches von Lalliet und Brahms serviert sowie instrumentale und vokale Folktunes aus verschiedenen Regionen Europas und des Bregenzerwaldes. Klassik trifft Volksmusik! \nMit Melissa Hartmann (Oboe\, Stimme)\, Isabella Kania (Klavier\, Stimme)\, Anja Niederwolfsgruber (Fagott\, Stimme) und Evelyn Fink-Mennel (Violine\, Gitarre\, Stimme). Eine Combo des Vorarlberger Landeskonservatoriums. \n
URL:https://evelynfinkmennel.at/event/musik-in-der-krone-au/
LOCATION:Hotel Krone Au\, Jaghausen 4\, Au\, Vorarlberg\, 6883\, Österreich
CATEGORIES:Konzert
ATTACH;FMTTYPE=image/jpeg:https://evelynfinkmennel.at/wp-content/uploads/Singen-mit-Evi.jpg
END:VEVENT
END:VCALENDAR