BEGIN:VCALENDAR
VERSION:2.0
PRODID:-//Evelyn Fink-Mennel - ECPv4.7.4//NONSGML v1.0//EN
CALSCALE:GREGORIAN
METHOD:PUBLISH
X-WR-CALNAME:Evelyn Fink-Mennel
X-ORIGINAL-URL:https://evelynfinkmennel.at
X-WR-CALDESC:Veranstaltungen für Evelyn Fink-Mennel
BEGIN:VEVENT
DTSTART;TZID=UTC+0:20190828T190000
DTEND;TZID=UTC+0:20190828T190000
DTSTAMP:20260422T091524
CREATED:20190202T211703Z
LAST-MODIFIED:20190202T211703Z
UID:989-1567018800-1567018800@evelynfinkmennel.at
SUMMARY:Mittanzen Propstei St. Gerold
DESCRIPTION:Tanzen zu Live-Musik\nSpezial \nRadix-Musikwerkstatt mit vielen Instrumentalisten und Jodlern trifft Tanzfreudige der Reihe Mittanzen. Ein Sommerfest für alle Sinne im stimmungsvollen Innenhof der Propstei St. Gerold.\nKulinarium inklusive: Der Gerold-Grill ist angeworfen !! \nWalserherbst Spezial in Zusammenarbeit mit netzwerkTanz\, Vorarlberger Landeskonservatorium\, cie.bewegungsmelder. \n
URL:https://evelynfinkmennel.at/event/mittanzen-propstei-st-gerold/
LOCATION:Propstei St. Gerold\, Propstei St. Gerold\, St. Gerold\, Vorarlberg\, 6722\, Österreich
END:VEVENT
END:VCALENDAR