BEGIN:VCALENDAR
VERSION:2.0
PRODID:-//Evelyn Fink-Mennel - ECPv4.7.4//NONSGML v1.0//EN
CALSCALE:GREGORIAN
METHOD:PUBLISH
X-WR-CALNAME:Evelyn Fink-Mennel
X-ORIGINAL-URL:https://evelynfinkmennel.at
X-WR-CALDESC:Veranstaltungen für Evelyn Fink-Mennel
BEGIN:VEVENT
DTSTART;TZID=UTC+0:20191004T190000
DTEND;TZID=UTC+0:20191004T220000
DTSTAMP:20260420T045209
CREATED:20190721T172324Z
LAST-MODIFIED:20190721T172324Z
UID:1132-1570215600-1570226400@evelynfinkmennel.at
SUMMARY:Mittanzen Dornbirn
DESCRIPTION:Mittanzen zu Live-Musik. Offene Bühne. \n  \nu.a. mit Aleksandra Vohl und Arndt Rössler (Tanz)\, Evelyn Fink-Mennel\, Irma-Maria Troy und Matthias Härtel (Musik) \n
URL:https://evelynfinkmennel.at/event/mittanzen-dornbirn/
LOCATION:Spielboden Dornbirn\, Dornbirn\, Vorarlberg\, 6850\, Österreich
CATEGORIES:Session
END:VEVENT
END:VCALENDAR