BEGIN:VCALENDAR
VERSION:2.0
PRODID:-//Evelyn Fink-Mennel - ECPv4.7.4//NONSGML v1.0//EN
CALSCALE:GREGORIAN
METHOD:PUBLISH
X-WR-CALNAME:Evelyn Fink-Mennel
X-ORIGINAL-URL:https://evelynfinkmennel.at
X-WR-CALDESC:Veranstaltungen für Evelyn Fink-Mennel
BEGIN:VEVENT
DTSTART;TZID=UTC+0:20180407T150000
DTEND;TZID=UTC+0:20180407T170000
DTSTAMP:20260422T220110
CREATED:20171120T123840Z
LAST-MODIFIED:20171120T124346Z
UID:459-1523113200-1523120400@evelynfinkmennel.at
SUMMARY:Mit-tanzen 1
DESCRIPTION:www.vorarlbergmuseum.at \nTeil 1 einer dreiteiligen Tanzreihe mit Tanzmeisterin Aleksandra Vohl. \nLive-Musik mit Evelyn Fink-Mennel \n
URL:https://evelynfinkmennel.at/event/mit-tanzen/
LOCATION:vorarlberg museum\, Kornmarktplatz 1\, Bregenz\, Vorarlberg\, 6900\, Österreich
CATEGORIES:Kurs
END:VEVENT
END:VCALENDAR