BEGIN:VCALENDAR
VERSION:2.0
PRODID:-//Evelyn Fink-Mennel - ECPv4.7.4//NONSGML v1.0//EN
CALSCALE:GREGORIAN
METHOD:PUBLISH
X-WR-CALNAME:Evelyn Fink-Mennel
X-ORIGINAL-URL:https://evelynfinkmennel.at
X-WR-CALDESC:Veranstaltungen für Evelyn Fink-Mennel
BEGIN:VEVENT
DTSTART;TZID=UTC+0:20200207T190000
DTEND;TZID=UTC+0:20200207T220000
DTSTAMP:20260420T011252
CREATED:20200117T213142Z
LAST-MODIFIED:20200117T213142Z
UID:1276-1581102000-1581112800@evelynfinkmennel.at
SUMMARY:Mit-tanzen on tour Opening 2020
DESCRIPTION:Mit-tanzen zu Live-Musik ab 19 Uhr\, offene Bühne zum Mit-tanzen und Mit-spielen\, Session. \nMit: Aleksandra Vohl und Arndt Rössler (Tanz)\, Evelyn Fink-Mennel\, Irma-Maria Troy und Matthias Härtel (Musik). \n
URL:https://evelynfinkmennel.at/event/mit-tanzen-on-tour-opening-2020/
LOCATION:vorarlberg museum\, Kornmarktplatz 1\, Bregenz\, Vorarlberg\, 6900\, Österreich
CATEGORIES:Session
ATTACH;FMTTYPE=image/jpeg:https://evelynfinkmennel.at/wp-content/uploads/Mittanzen-2_Mark-Mosman.jpg
END:VEVENT
END:VCALENDAR