BEGIN:VCALENDAR
VERSION:2.0
PRODID:-//Evelyn Fink-Mennel - ECPv4.7.4//NONSGML v1.0//EN
CALSCALE:GREGORIAN
METHOD:PUBLISH
X-WR-CALNAME:Evelyn Fink-Mennel
X-ORIGINAL-URL:https://evelynfinkmennel.at
X-WR-CALDESC:Veranstaltungen für Evelyn Fink-Mennel
BEGIN:VEVENT
DTSTART;TZID=UTC+0:20201204T190000
DTEND;TZID=UTC+0:20201204T220000
DTSTAMP:20260419T171446
CREATED:20200117T220402Z
LAST-MODIFIED:20201204T160042Z
UID:1303-1607108400-1607119200@evelynfinkmennel.at
SUMMARY:abgesagt! Mit-tanzen on Tour
DESCRIPTION:Mit-tanzen zu Live-Musik ab 19 Uhr\, offene Bühne zum Mit-tanzen und Mit-spielen\, Session.\nMit: Aleksandra Vohl und Arndt Rössler (Tanz)\, Evelyn Fink-Mennel\, Irma-Maria Troy und Matthias Härtel (Musik). \n
URL:https://evelynfinkmennel.at/event/mit-tanzen-on-tour-6/
LOCATION:Adler Schwarzenberg\, Hof 15\, Schwarzenberg\, Vorarlberg\, 6867\, Österreich
CATEGORIES:Session
ATTACH;FMTTYPE=image/jpeg:https://evelynfinkmennel.at/wp-content/uploads/Mittanzen_Mark-Mosman.jpg
END:VEVENT
END:VCALENDAR