BEGIN:VCALENDAR
VERSION:2.0
PRODID:-//Evelyn Fink-Mennel - ECPv4.7.4//NONSGML v1.0//EN
CALSCALE:GREGORIAN
METHOD:PUBLISH
X-WR-CALNAME:Evelyn Fink-Mennel
X-ORIGINAL-URL:https://evelynfinkmennel.at
X-WR-CALDESC:Veranstaltungen für Evelyn Fink-Mennel
BEGIN:VEVENT
DTSTART;TZID=UTC+0:20200605T190000
DTEND;TZID=UTC+0:20200605T210000
DTSTAMP:20260420T005616
CREATED:20200117T214908Z
LAST-MODIFIED:20200406T131130Z
UID:1287-1591383600-1591390800@evelynfinkmennel.at
SUMMARY:abgesagt! Mit-tanzen on tour
DESCRIPTION:Mit-tanzen zu Live-Musik ab 19 Uhr\, offene Bühne zum Mit-tanzen und Mit-spielen\, Session.\nMit: Aleksandra Vohl und Arndt Rössler (Tanz)\, Evelyn Fink-Mennel\, Irma-Maria Troy und Matthias Härtel (Musik). \n
URL:https://evelynfinkmennel.at/event/mit-tanzen-on-tour-3/
LOCATION:Rankweiler Hof\, Ringstraße 25\, Rankweil\, Vorarlberg\, 6830\, Österreich
CATEGORIES:Session
ATTACH;FMTTYPE=image/jpeg:https://evelynfinkmennel.at/wp-content/uploads/Mittanzen-2_Mark-Mosman.jpg
END:VEVENT
END:VCALENDAR