BEGIN:VCALENDAR
VERSION:2.0
PRODID:-//Evelyn Fink-Mennel - ECPv4.7.4//NONSGML v1.0//EN
CALSCALE:GREGORIAN
METHOD:PUBLISH
X-WR-CALNAME:Evelyn Fink-Mennel
X-ORIGINAL-URL:https://evelynfinkmennel.at
X-WR-CALDESC:Veranstaltungen für Evelyn Fink-Mennel
BEGIN:VEVENT
DTSTART;TZID=UTC+0:20200517T120000
DTEND;TZID=UTC+0:20200517T170000
DTSTAMP:20260419T232649
CREATED:20200117T221427Z
LAST-MODIFIED:20200406T131310Z
UID:1305-1589716800-1589734800@evelynfinkmennel.at
SUMMARY:abgesagt! Mit-tanzen bei "Dancing in the Street"
DESCRIPTION:Bereits 1985 sangen und tanzten Mick Jagger und David Bowie „Dancing in the Street…“ (It’s an invitation across the Nation\, a Chance for Folks to meet. They’ll be laughing and singing\, music swinging\, dancing in the street…“\nMit-tanzen on tour ist mit dabei beim Bregenzer Frühling\, wenn ab Mittag bis in den Abend hinein an verschiedenen Plätzen der Stadt getanzt wird.\nDetaillierte Programminfo ab Mitte März auf www.bregenzerfruehling.com \n
URL:https://evelynfinkmennel.at/event/mit-tanzen-bei-dancing-in-the-street/
LOCATION:Bregenz Stadt\, Bregenz\, Vorarlberg\, 6900\, Österreich
CATEGORIES:Session
END:VEVENT
END:VCALENDAR