BEGIN:VCALENDAR
VERSION:2.0
PRODID:-//Evelyn Fink-Mennel - ECPv4.7.4//NONSGML v1.0//EN
CALSCALE:GREGORIAN
METHOD:PUBLISH
X-WR-CALNAME:Evelyn Fink-Mennel
X-ORIGINAL-URL:https://evelynfinkmennel.at
X-WR-CALDESC:Veranstaltungen für Evelyn Fink-Mennel
BEGIN:VEVENT
DTSTART;TZID=UTC+0:20180414T150000
DTEND;TZID=UTC+0:20180414T170000
DTSTAMP:20260422T202153
CREATED:20171120T124616Z
LAST-MODIFIED:20171120T124616Z
UID:463-1523718000-1523725200@evelynfinkmennel.at
SUMMARY:Mit-tanzen 2
DESCRIPTION:www.vorarlbergmuseum.at \nTeil 2 einer dreiteiligen Tanzreihe mit Tanzmeisterin Aleksandra Vohl. \nLive-Musik mit Evelyn Fink-Mennel \n
URL:https://evelynfinkmennel.at/event/mit-tanzen-2/
LOCATION:vorarlberg museum\, Kornmarktplatz 1\, Bregenz\, Vorarlberg\, 6900\, Österreich
CATEGORIES:Kurs
END:VEVENT
END:VCALENDAR