BEGIN:VCALENDAR
VERSION:2.0
PRODID:-//Evelyn Fink-Mennel - ECPv4.7.4//NONSGML v1.0//EN
CALSCALE:GREGORIAN
METHOD:PUBLISH
X-WR-CALNAME:Evelyn Fink-Mennel
X-ORIGINAL-URL:https://evelynfinkmennel.at
X-WR-CALDESC:Veranstaltungen für Evelyn Fink-Mennel
BEGIN:VEVENT
DTSTART;TZID=UTC+0:20190425T200000
DTEND;TZID=UTC+0:20190425T200000
DTSTAMP:20260422T121904
CREATED:20190202T204116Z
LAST-MODIFIED:20190202T204116Z
UID:972-1556222400-1556222400@evelynfinkmennel.at
SUMMARY:Messis Cellogruppe und Sonus Brass
DESCRIPTION:Kundenveranstaltung der Vorarlberger Landesversicherung. \nGeschlossene Veranstaltung! \n
URL:https://evelynfinkmennel.at/event/messis-cellogruppe-und-sonus-brass/
LOCATION:Angelika Kauffmann Saal\, Hof 454\, Schwarzenberg\, Vorarlberg\, 6867\, Österreich
END:VEVENT
END:VCALENDAR