BEGIN:VCALENDAR
VERSION:2.0
PRODID:-//Evelyn Fink-Mennel - ECPv4.7.4//NONSGML v1.0//EN
CALSCALE:GREGORIAN
METHOD:PUBLISH
X-WR-CALNAME:Evelyn Fink-Mennel
X-ORIGINAL-URL:https://evelynfinkmennel.at
X-WR-CALDESC:Veranstaltungen für Evelyn Fink-Mennel
BEGIN:VEVENT
DTSTART;VALUE=DATE:20181012
DTEND;VALUE=DATE:20181015
DTSTAMP:20260422T153028
CREATED:20171120T140554Z
LAST-MODIFIED:20180602T135606Z
UID:498-1539302400-1539561599@evelynfinkmennel.at
SUMMARY:Lieder und Jodel aus Kaukasus und Alpen
DESCRIPTION:Ein mehrtägiger Gesangsworkshop zur Vokaltradition in Georgien und in den Alpen mit Tamar Buadze und Evelyn Fink-Mennel mit besonderem Augenmerk auf Mehrstimmigkeit und die Jodeltechnik in beiden Ländern. \n  \n
URL:https://evelynfinkmennel.at/event/lieder-und-jodel-aus-kaukasus-und-alpen/
LOCATION:St. Ulrich/Bollschweil\, Breisgau\, Bildungshaus St. Ulrich\, Bollschweil\, Baden-Württemberg\, 79283\, Deutschland
CATEGORIES:Kurs
END:VEVENT
END:VCALENDAR