BEGIN:VCALENDAR
VERSION:2.0
PRODID:-//Evelyn Fink-Mennel - ECPv4.7.4//NONSGML v1.0//EN
CALSCALE:GREGORIAN
METHOD:PUBLISH
X-WR-CALNAME:Evelyn Fink-Mennel
X-ORIGINAL-URL:https://evelynfinkmennel.at
X-WR-CALDESC:Veranstaltungen für Evelyn Fink-Mennel
BEGIN:VEVENT
DTSTART;TZID=UTC+0:20190529T200000
DTEND;TZID=UTC+0:20190529T223000
DTSTAMP:20260422T105125
CREATED:20180910T141007Z
LAST-MODIFIED:20190503T103647Z
UID:804-1559160000-1559169000@evelynfinkmennel.at
SUMMARY:Laut:yodeln München Konzert Alpen Balkan Credos
DESCRIPTION:Das Münchner „Fern-Nah-Weit“-Jodelfest … LAUTyodeln Vol 2 \nEin Konzertabend in der Allerheiligen-Hofkirche in München\, im Wechsel mit Schwarzbären Schuppel (CH)\, Dom Flemons (USA) und dem Duo Matthias Loibner & Christian Zehnder (AUT/CH) \n  \n \n
URL:https://evelynfinkmennel.at/event/lautyodeln-muenchen-konzert-alpen-balkan-credos/
LOCATION:Allerheiligen Hofkirche\, Residenzstraße 1\, München\, Deutschland
CATEGORIES:Konzert
END:VEVENT
END:VCALENDAR