BEGIN:VCALENDAR
VERSION:2.0
PRODID:-//Evelyn Fink-Mennel - ECPv4.7.4//NONSGML v1.0//EN
CALSCALE:GREGORIAN
METHOD:PUBLISH
X-WR-CALNAME:Evelyn Fink-Mennel
X-ORIGINAL-URL:https://evelynfinkmennel.at
X-WR-CALDESC:Veranstaltungen für Evelyn Fink-Mennel
BEGIN:VEVENT
DTSTART;TZID=UTC+0:20180413T170000
DTEND;TZID=UTC+0:20180413T230000
DTSTAMP:20260422T202603
CREATED:20171120T133811Z
LAST-MODIFIED:20171120T133811Z
UID:481-1523638800-1523660400@evelynfinkmennel.at
SUMMARY:Lange Nacht der Forschung
DESCRIPTION:Studierende des Schwerpunktes Volksmusik und das „Zentrum Volksmusikforschung Bodenseeraum“ am Vorarlberger Landeskonservatorium präsentieren im Rahmen der Langen Nacht der Forschung Forschungsergebnisse \naus der angewandten Musikforschung. Mit Live-Musik. \n  \n
URL:https://evelynfinkmennel.at/event/lange-nacht-der-forschung/
LOCATION:Inatura Dornbirn\, Jahngasse 9\, Dornbirn\, Vorarlberg\, 6850\, Österreich
CATEGORIES:Konzert,Vortrag
END:VEVENT
END:VCALENDAR