BEGIN:VCALENDAR
VERSION:2.0
PRODID:-//Evelyn Fink-Mennel - ECPv4.7.4//NONSGML v1.0//EN
CALSCALE:GREGORIAN
METHOD:PUBLISH
X-WR-CALNAME:Evelyn Fink-Mennel
X-ORIGINAL-URL:https://evelynfinkmennel.at
X-WR-CALDESC:Veranstaltungen für Evelyn Fink-Mennel
BEGIN:VEVENT
DTSTART;VALUE=DATE:20171008
DTEND;VALUE=DATE:20171015
DTSTAMP:20260422T233107
CREATED:20170912T090105Z
LAST-MODIFIED:20171120T154106Z
UID:109-1507420800-1508025599@evelynfinkmennel.at
SUMMARY:Kurs: Volksmusikwoche in St. Gerold
DESCRIPTION:
URL:https://evelynfinkmennel.at/event/kurs-volksmusikwoche-in-st-gerold/
LOCATION:St. Gerold
CATEGORIES:Kurs
END:VEVENT
END:VCALENDAR