BEGIN:VCALENDAR
VERSION:2.0
PRODID:-//Evelyn Fink-Mennel - ECPv4.7.4//NONSGML v1.0//EN
CALSCALE:GREGORIAN
METHOD:PUBLISH
X-WR-CALNAME:Evelyn Fink-Mennel
X-ORIGINAL-URL:https://evelynfinkmennel.at
X-WR-CALDESC:Veranstaltungen für Evelyn Fink-Mennel
BEGIN:VEVENT
DTSTART;VALUE=DATE:20171006
DTEND;VALUE=DATE:20171008
DTSTAMP:20260423T005658
CREATED:20170912T085843Z
LAST-MODIFIED:20171120T154127Z
UID:106-1507248000-1507420799@evelynfinkmennel.at
SUMMARY:Kurs: Jodelfest/Lenggries
DESCRIPTION:
URL:https://evelynfinkmennel.at/event/kurs-jodelfestlenggries/
LOCATION:Lenggries
CATEGORIES:Kurs
END:VEVENT
END:VCALENDAR