BEGIN:VCALENDAR
VERSION:2.0
PRODID:-//Evelyn Fink-Mennel - ECPv4.7.4//NONSGML v1.0//EN
CALSCALE:GREGORIAN
METHOD:PUBLISH
X-WR-CALNAME:Evelyn Fink-Mennel
X-ORIGINAL-URL:https://evelynfinkmennel.at
X-WR-CALDESC:Veranstaltungen für Evelyn Fink-Mennel
BEGIN:VEVENT
DTSTART;TZID=UTC+0:20190922T110000
DTEND;TZID=UTC+0:20190922T120000
DTSTAMP:20260420T065906
CREATED:20190721T180145Z
LAST-MODIFIED:20190721T180145Z
UID:1157-1569150000-1569153600@evelynfinkmennel.at
SUMMARY:KUNO: Kinderkultur
DESCRIPTION:Kinderkonzert mit Evelyn Fink-Mennel und Messis Cellogruppe in der Parkhalle Egg\, 11 Uhr. \n
URL:https://evelynfinkmennel.at/event/kuno-kinderkultur/
LOCATION:Parkhalle Egg\, Egg\, Vorarlberg\, 6863\, Österreich
CATEGORIES:Konzert
END:VEVENT
END:VCALENDAR