BEGIN:VCALENDAR
VERSION:2.0
PRODID:-//Evelyn Fink-Mennel - ECPv4.7.4//NONSGML v1.0//EN
CALSCALE:GREGORIAN
METHOD:PUBLISH
X-WR-CALNAME:Evelyn Fink-Mennel
X-ORIGINAL-URL:https://evelynfinkmennel.at
X-WR-CALDESC:Veranstaltungen für Evelyn Fink-Mennel
BEGIN:VEVENT
DTSTART;TZID=UTC+0:20190506T170000
DTEND;TZID=UTC+0:20190506T170000
DTSTAMP:20260422T122401
CREATED:20190202T205255Z
LAST-MODIFIED:20190202T205255Z
UID:979-1557162000-1557162000@evelynfinkmennel.at
SUMMARY:Kons-Fiddler beim Landesrechnungshof
DESCRIPTION:Feierlichkeiten anlässlich 20 Jahre Landes-Rechnungshof. \nMit fetziger Folkmusik aus aller Welt mit den Kons-Fiddler\, \neiner Streicherformation des Vorarlberger Landeskonservatoriums (Ltg. Evelyn Fink-Mennel). \n
URL:https://evelynfinkmennel.at/event/kons-fiddler-beim-landesrechnungshof/
LOCATION:Bregenz
END:VEVENT
END:VCALENDAR